BEGIN:VCALENDAR
VERSION:2.0
PRODID:-//Ahoi.dev - ECPv6.15.19//NONSGML v1.0//EN
CALSCALE:GREGORIAN
METHOD:PUBLISH
X-WR-CALNAME:Ahoi.dev
X-ORIGINAL-URL:https://ahoi.dev
X-WR-CALDESC:Events for Ahoi.dev
REFRESH-INTERVAL;VALUE=DURATION:PT1H
X-Robots-Tag:noindex
X-PUBLISHED-TTL:PT1H
BEGIN:VTIMEZONE
TZID:Europe/London
BEGIN:DAYLIGHT
TZOFFSETFROM:+0000
TZOFFSETTO:+0100
TZNAME:BST
DTSTART:20240331T010000
END:DAYLIGHT
BEGIN:STANDARD
TZOFFSETFROM:+0100
TZOFFSETTO:+0000
TZNAME:GMT
DTSTART:20241027T010000
END:STANDARD
BEGIN:DAYLIGHT
TZOFFSETFROM:+0000
TZOFFSETTO:+0100
TZNAME:BST
DTSTART:20250330T010000
END:DAYLIGHT
BEGIN:STANDARD
TZOFFSETFROM:+0100
TZOFFSETTO:+0000
TZNAME:GMT
DTSTART:20251026T010000
END:STANDARD
BEGIN:DAYLIGHT
TZOFFSETFROM:+0000
TZOFFSETTO:+0100
TZNAME:BST
DTSTART:20260329T010000
END:DAYLIGHT
BEGIN:STANDARD
TZOFFSETFROM:+0100
TZOFFSETTO:+0000
TZNAME:GMT
DTSTART:20261025T010000
END:STANDARD
END:VTIMEZONE
BEGIN:VTIMEZONE
TZID:America/Los_Angeles
BEGIN:DAYLIGHT
TZOFFSETFROM:-0800
TZOFFSETTO:-0700
TZNAME:PDT
DTSTART:20220313T100000
END:DAYLIGHT
BEGIN:STANDARD
TZOFFSETFROM:-0700
TZOFFSETTO:-0800
TZNAME:PST
DTSTART:20221106T090000
END:STANDARD
BEGIN:DAYLIGHT
TZOFFSETFROM:-0800
TZOFFSETTO:-0700
TZNAME:PDT
DTSTART:20230312T100000
END:DAYLIGHT
BEGIN:STANDARD
TZOFFSETFROM:-0700
TZOFFSETTO:-0800
TZNAME:PST
DTSTART:20231105T090000
END:STANDARD
BEGIN:DAYLIGHT
TZOFFSETFROM:-0800
TZOFFSETTO:-0700
TZNAME:PDT
DTSTART:20240310T100000
END:DAYLIGHT
BEGIN:STANDARD
TZOFFSETFROM:-0700
TZOFFSETTO:-0800
TZNAME:PST
DTSTART:20241103T090000
END:STANDARD
BEGIN:DAYLIGHT
TZOFFSETFROM:-0800
TZOFFSETTO:-0700
TZNAME:PDT
DTSTART:20250309T100000
END:DAYLIGHT
BEGIN:STANDARD
TZOFFSETFROM:-0700
TZOFFSETTO:-0800
TZNAME:PST
DTSTART:20251102T090000
END:STANDARD
BEGIN:DAYLIGHT
TZOFFSETFROM:-0800
TZOFFSETTO:-0700
TZNAME:PDT
DTSTART:20260308T100000
END:DAYLIGHT
BEGIN:STANDARD
TZOFFSETFROM:-0700
TZOFFSETTO:-0800
TZNAME:PST
DTSTART:20261101T090000
END:STANDARD
END:VTIMEZONE
BEGIN:VTIMEZONE
TZID:America/New_York
BEGIN:DAYLIGHT
TZOFFSETFROM:-0500
TZOFFSETTO:-0400
TZNAME:EDT
DTSTART:20210314T070000
END:DAYLIGHT
BEGIN:STANDARD
TZOFFSETFROM:-0400
TZOFFSETTO:-0500
TZNAME:EST
DTSTART:20211107T060000
END:STANDARD
BEGIN:DAYLIGHT
TZOFFSETFROM:-0500
TZOFFSETTO:-0400
TZNAME:EDT
DTSTART:20220313T070000
END:DAYLIGHT
BEGIN:STANDARD
TZOFFSETFROM:-0400
TZOFFSETTO:-0500
TZNAME:EST
DTSTART:20221106T060000
END:STANDARD
BEGIN:DAYLIGHT
TZOFFSETFROM:-0500
TZOFFSETTO:-0400
TZNAME:EDT
DTSTART:20230312T070000
END:DAYLIGHT
BEGIN:STANDARD
TZOFFSETFROM:-0400
TZOFFSETTO:-0500
TZNAME:EST
DTSTART:20231105T060000
END:STANDARD
BEGIN:DAYLIGHT
TZOFFSETFROM:-0500
TZOFFSETTO:-0400
TZNAME:EDT
DTSTART:20240310T070000
END:DAYLIGHT
BEGIN:STANDARD
TZOFFSETFROM:-0400
TZOFFSETTO:-0500
TZNAME:EST
DTSTART:20241103T060000
END:STANDARD
BEGIN:DAYLIGHT
TZOFFSETFROM:-0500
TZOFFSETTO:-0400
TZNAME:EDT
DTSTART:20250309T070000
END:DAYLIGHT
BEGIN:STANDARD
TZOFFSETFROM:-0400
TZOFFSETTO:-0500
TZNAME:EST
DTSTART:20251102T060000
END:STANDARD
BEGIN:DAYLIGHT
TZOFFSETFROM:-0500
TZOFFSETTO:-0400
TZNAME:EDT
DTSTART:20260308T070000
END:DAYLIGHT
BEGIN:STANDARD
TZOFFSETFROM:-0400
TZOFFSETTO:-0500
TZNAME:EST
DTSTART:20261101T060000
END:STANDARD
END:VTIMEZONE
BEGIN:VEVENT
DTSTART;VALUE=DATE:20251002
DTEND;VALUE=DATE:20251003
DTSTAMP:20260421T173912
CREATED:20250925T085214Z
LAST-MODIFIED:20250925T085214Z
UID:8510324-1759363200-1759449599@ahoi.dev
SUMMARY:Deploy London 2025
DESCRIPTION:Join Deploy London for talks led by AI experts and learn how to get the most out of the DigitalOcean products you’re already using\, as well as discovering what our other offerings can do for your business.
URL:https://ahoi.dev/event/deploy-london-2025/
LOCATION:Ham Yard Hotel\, 1 Ham Yard\, London\, W1D 7DT\, United Kingdom
CATEGORIES:AI,Development
ATTACH;FMTTYPE=image/jpeg:https://ahoi.dev/wp-content/uploads/2025/09/deploy-london-2025.jpg
END:VEVENT
BEGIN:VEVENT
DTSTART;VALUE=DATE:20250925
DTEND;VALUE=DATE:20250926
DTSTAMP:20260421T173912
CREATED:20250623T074442Z
LAST-MODIFIED:20250623T164433Z
UID:8505550-1758758400-1758844799@ahoi.dev
SUMMARY:LoopConf 2025
DESCRIPTION:Launched in 2015\, LoopConf is an event that brings together people who are driving innovation in the WordPress community. The WordPress Developer Conference will take place at the historic Bishopsgate Institute\, a cultural venue located in the City of London in the United Kingdom.
URL:https://ahoi.dev/event/loopconf-2025/
LOCATION:Bishopsgate Institute\, 230 Bishopsgate\, London\, EC2M 4QH\, United Kingdom
CATEGORIES:Development,WordPress
ATTACH;FMTTYPE=image/png:https://ahoi.dev/wp-content/uploads/2025/06/loopconf-2025.png
END:VEVENT
BEGIN:VEVENT
DTSTART;VALUE=DATE:20250506
DTEND;VALUE=DATE:20250515
DTSTAMP:20260421T173912
CREATED:20250205T092821Z
LAST-MODIFIED:20250205T092821Z
UID:8500722-1746489600-1747267199@ahoi.dev
SUMMARY:Config 2025
DESCRIPTION:Config 2025 is Figma’s annual conference\, taking place virtually for free or live in San Francisco on 6-8 May 2025. It’s three days of talks\, workshops and conversations about design\, development and product building. There will also be the first Config in London. on 14 May 2025.
URL:https://ahoi.dev/event/config-2025/
LOCATION:Moscone Center\, 747 Howard St\, San Francisco\, CA\, 94103\, United States
CATEGORIES:Design,Development,Figma,Product Building
ATTACH;FMTTYPE=image/png:https://ahoi.dev/wp-content/uploads/2025/02/figma-config-2025.png
END:VEVENT
BEGIN:VEVENT
DTSTART;VALUE=DATE:20250415
DTEND;VALUE=DATE:20250416
DTSTAMP:20260421T173912
CREATED:20250227T203655Z
LAST-MODIFIED:20250227T203722Z
UID:8501115-1744675200-1744761599@ahoi.dev
SUMMARY:DE{CODE} 2025
DESCRIPTION:Hosted by WP Engine\, DE{CODE} is evolving! What started as a developer-focused event is now opening its doors wider—welcoming developers\, agencies\, and brands—to create a truly inclusive space for everyone building on WordPress®. \nDE{CODE} 2025 brings expert-led insights from 20+ speakers\, three dedicated content tracks for developers\, agencies\, and marketers\, cutting-edge innovations in AI and web technology\, and a global community of thousands—all designed for anyone building on WordPress to optimize performance\, streamline workflows\, and drive business results.
URL:https://ahoi.dev/event/decode-2025/
CATEGORIES:Development
ATTACH;FMTTYPE=image/png:https://ahoi.dev/wp-content/uploads/2025/02/decode-2025.png
END:VEVENT
BEGIN:VEVENT
DTSTART;VALUE=DATE:20240910
DTEND;VALUE=DATE:20240913
DTSTAMP:20260421T173912
CREATED:20240902T034011Z
LAST-MODIFIED:20240902T034011Z
UID:8494489-1725926400-1726185599@ahoi.dev
SUMMARY:Prepathon 2024
DESCRIPTION:Prepathon 2024 is a three-day online event that will help you prepare for the sales season with expert-led sessions\, roundtable discussions\, engaging activities and more around the three themes of Website Optimization\, Revenue & Growth and AI & Innovation for SMBs.
URL:https://ahoi.dev/event/prepathon-2024/
CATEGORIES:Design,Development,Sales
ATTACH;FMTTYPE=image/png:https://ahoi.dev/wp-content/uploads/2024/09/cloudways-prepathon.png
END:VEVENT
BEGIN:VEVENT
DTSTART;TZID=America/New_York:20240709T110000
DTEND;TZID=America/New_York:20240709T170000
DTSTAMP:20260421T173912
CREATED:20240605T182322Z
LAST-MODIFIED:20240605T182322Z
UID:8492192-1720522800-1720544400@ahoi.dev
SUMMARY:Deploy 2024
DESCRIPTION:Deploy is DigitalOcean’s virtual conference for developers\, startups and founders\, bringing together inspiring innovators\, industry experts\, customer voices and visionary leaders to showcase the unparalleled potential of the DigitalOcean platform and community.
URL:https://ahoi.dev/event/deploy-2024/
CATEGORIES:Development
ATTACH;FMTTYPE=image/png:https://ahoi.dev/wp-content/uploads/2024/06/digitalocean-deploy-2024.png
END:VEVENT
BEGIN:VEVENT
DTSTART;VALUE=DATE:20240626
DTEND;VALUE=DATE:20240628
DTSTAMP:20260421T173912
CREATED:20231115T155506Z
LAST-MODIFIED:20231115T155506Z
UID:8486026-1719360000-1719532799@ahoi.dev
SUMMARY:Config 2024
DESCRIPTION:Config is Figma’s annual conference\, taking place virtually for free or live in San Francisco on 26-27 June. It’s two days of talks\, workshops and conversations about design\, development and product building.
URL:https://ahoi.dev/event/config-2024/
LOCATION:Moscone Center\, 747 Howard St\, San Francisco\, CA\, 94103\, United States
CATEGORIES:Design,Development,Figma,Product Building
ATTACH;FMTTYPE=image/png:https://ahoi.dev/wp-content/uploads/2023/11/figma-config-2024.png
END:VEVENT
BEGIN:VEVENT
DTSTART;VALUE=DATE:20240319
DTEND;VALUE=DATE:20240322
DTSTAMP:20260421T173912
CREATED:20240214T082904Z
LAST-MODIFIED:20240214T082904Z
UID:8488649-1710806400-1711065599@ahoi.dev
SUMMARY:DE{CODE} 2024
DESCRIPTION:Hosted by WP Engine\, DE{CODE} is the #1 conference for WordPress developers. The free virtual worldwide event is dedicated to helping site builders sharpen their skill sets and expand their knowledge in WordPress. It features the same great content across three major regions\, including APAC\, North America and EMEA.
URL:https://ahoi.dev/event/decode-2024/
CATEGORIES:Development
ATTACH;FMTTYPE=image/png:https://ahoi.dev/wp-content/uploads/2024/02/decode-2024.png
END:VEVENT
BEGIN:VEVENT
DTSTART;VALUE=DATE:20230621
DTEND;VALUE=DATE:20230623
DTSTAMP:20260421T173912
CREATED:20230607T100115Z
LAST-MODIFIED:20230607T100115Z
UID:8481020-1687305600-1687478399@ahoi.dev
SUMMARY:Config 2023
DESCRIPTION:Config is Figma’s annual conference\, taking place virtually for free or live in San Francisco on 21-22 June. It’s two days of talks\, workshops and conversations about design\, development and product building.
URL:https://ahoi.dev/event/config-2023/
LOCATION:Moscone Center\, 747 Howard St\, San Francisco\, CA\, 94103\, United States
CATEGORIES:Design,Development,Figma,Product Building
ATTACH;FMTTYPE=image/png:https://ahoi.dev/wp-content/uploads/2023/06/figma-config.png
END:VEVENT
BEGIN:VEVENT
DTSTART;VALUE=DATE:20230321
DTEND;VALUE=DATE:20230324
DTSTAMP:20260421T173912
CREATED:20230212T173943Z
LAST-MODIFIED:20230212T173943Z
UID:8477282-1679356800-1679615999@ahoi.dev
SUMMARY:DE{CODE} 2023
DESCRIPTION:Hosted by WP Engine\, DE{CODE} is the #1 conference for WordPress developers. The free virtual worldwide event is dedicated to helping site builders sharpen their skill sets and expand their knowledge in WordPress. It features the same great content across three major regions\, including APAC\, North America and EMEA.
URL:https://ahoi.dev/event/decode-2023/
CATEGORIES:Development
ATTACH;FMTTYPE=image/png:https://ahoi.dev/wp-content/uploads/2023/02/decode.png
END:VEVENT
BEGIN:VEVENT
DTSTART;TZID=America/New_York:20221115T110000
DTEND;TZID=America/New_York:20221116T150000
DTSTAMP:20260421T173912
CREATED:20221013T050816Z
LAST-MODIFIED:20221013T050953Z
UID:8473883-1668510000-1668610800@ahoi.dev
SUMMARY:deploy 2022
DESCRIPTION:At deploy 2022\, DigitalOcean’s virtual conference for global builders\, you will uncover ways to enhance your developer experience with new tools\, tech stack strategies\, and advice from people who have been there and built that. \nIt’s two days of learning from startup founders and cloud developers who’ll demonstrate tried-and-true pathways that will help you get from point A to B faster.
URL:https://ahoi.dev/event/deploy-2022/
CATEGORIES:Development
ATTACH;FMTTYPE=image/png:https://ahoi.dev/wp-content/uploads/2022/10/digitalocean-deploy.png
END:VEVENT
END:VCALENDAR