BEGIN:VCALENDAR
VERSION:2.0
PRODID:-//Ahoi.dev - ECPv6.15.19//NONSGML v1.0//EN
CALSCALE:GREGORIAN
METHOD:PUBLISH
X-WR-CALNAME:Ahoi.dev
X-ORIGINAL-URL:https://ahoi.dev
X-WR-CALDESC:Events for Ahoi.dev
REFRESH-INTERVAL;VALUE=DURATION:PT1H
X-Robots-Tag:noindex
X-PUBLISHED-TTL:PT1H
BEGIN:VTIMEZONE
TZID:America/Los_Angeles
BEGIN:DAYLIGHT
TZOFFSETFROM:-0800
TZOFFSETTO:-0700
TZNAME:PDT
DTSTART:20220313T100000
END:DAYLIGHT
BEGIN:STANDARD
TZOFFSETFROM:-0700
TZOFFSETTO:-0800
TZNAME:PST
DTSTART:20221106T090000
END:STANDARD
BEGIN:DAYLIGHT
TZOFFSETFROM:-0800
TZOFFSETTO:-0700
TZNAME:PDT
DTSTART:20230312T100000
END:DAYLIGHT
BEGIN:STANDARD
TZOFFSETFROM:-0700
TZOFFSETTO:-0800
TZNAME:PST
DTSTART:20231105T090000
END:STANDARD
BEGIN:DAYLIGHT
TZOFFSETFROM:-0800
TZOFFSETTO:-0700
TZNAME:PDT
DTSTART:20240310T100000
END:DAYLIGHT
BEGIN:STANDARD
TZOFFSETFROM:-0700
TZOFFSETTO:-0800
TZNAME:PST
DTSTART:20241103T090000
END:STANDARD
END:VTIMEZONE
BEGIN:VEVENT
DTSTART;TZID=America/Los_Angeles:20230118T080000
DTEND;TZID=America/Los_Angeles:20230118T203000
DTSTAMP:20260421T224841
CREATED:20230115T213007Z
LAST-MODIFIED:20230115T214025Z
UID:8476544-1674028800-1674073800@ahoi.dev
SUMMARY:FCP Global Summit - Virtual Day 2023
DESCRIPTION:Join the summit for the wrap-up of the US tour of the Final Cut Pro Global Summit 2022-2023! FCP Global Summit users are invited to attend the Virtual Day on January 18th\, 2023 for free. \nLearn from the best\, elevate your filmmaking skills and get official Apple certification. MotionVFX has been a proud sponsor of the FCP Global Summit for many years – it’s a one-of-a-kind event for Final Cut Pro users.
URL:https://ahoi.dev/event/fcp-global-summit-virtual-day-2023/
CATEGORIES:Final Cut Pro
ATTACH;FMTTYPE=image/png:https://ahoi.dev/wp-content/uploads/2023/01/fcp-global-summit.png
END:VEVENT
END:VCALENDAR