BEGIN:VCALENDAR
VERSION:2.0
PRODID:-//Ahoi.dev - ECPv6.15.19//NONSGML v1.0//EN
CALSCALE:GREGORIAN
METHOD:PUBLISH
X-ORIGINAL-URL:https://ahoi.dev
X-WR-CALDESC:Events for Ahoi.dev
REFRESH-INTERVAL;VALUE=DURATION:PT1H
X-Robots-Tag:noindex
X-PUBLISHED-TTL:PT1H
BEGIN:VTIMEZONE
TZID:America/New_York
BEGIN:DAYLIGHT
TZOFFSETFROM:-0500
TZOFFSETTO:-0400
TZNAME:EDT
DTSTART:20220313T070000
END:DAYLIGHT
BEGIN:STANDARD
TZOFFSETFROM:-0400
TZOFFSETTO:-0500
TZNAME:EST
DTSTART:20221106T060000
END:STANDARD
BEGIN:DAYLIGHT
TZOFFSETFROM:-0500
TZOFFSETTO:-0400
TZNAME:EDT
DTSTART:20230312T070000
END:DAYLIGHT
BEGIN:STANDARD
TZOFFSETFROM:-0400
TZOFFSETTO:-0500
TZNAME:EST
DTSTART:20231105T060000
END:STANDARD
BEGIN:DAYLIGHT
TZOFFSETFROM:-0500
TZOFFSETTO:-0400
TZNAME:EDT
DTSTART:20240310T070000
END:DAYLIGHT
BEGIN:STANDARD
TZOFFSETFROM:-0400
TZOFFSETTO:-0500
TZNAME:EST
DTSTART:20241103T060000
END:STANDARD
END:VTIMEZONE
BEGIN:VEVENT
DTSTART;TZID=America/New_York:20230620T180000
DTEND;TZID=America/New_York:20230620T220000
DTSTAMP:20260421T232137
CREATED:20230511T192735Z
LAST-MODIFIED:20230511T192735Z
UID:8480269-1687284000-1687298400@ahoi.dev
SUMMARY:Tailwind Connect 2023
DESCRIPTION:Tailwind Connect 2023 is the first official Tailwind CSS event taking place in Cambridge\, Ontario. Join 150 developers and designers to get a preview of what the Tailwind CSS team has been working on. It’s an in-person event with no online component. However\, recordings of the presentations will be posted online the week after the event.
URL:https://ahoi.dev/event/tailwind-connect-2023/
LOCATION:Tapestry Hall\, 74 Grand Ave S\, Cambridge\, ON\, N1S 2L9\, Canada
CATEGORIES:Tailwind CSS
ATTACH;FMTTYPE=image/jpeg:https://ahoi.dev/wp-content/uploads/2023/05/tailwind-connect-2023.jpg
END:VEVENT
END:VCALENDAR