BEGIN:VCALENDAR
VERSION:2.0
PRODID:-//Ahoi.dev - ECPv6.15.19//NONSGML v1.0//EN
CALSCALE:GREGORIAN
METHOD:PUBLISH
X-ORIGINAL-URL:https://ahoi.dev
X-WR-CALDESC:Events for Ahoi.dev
REFRESH-INTERVAL;VALUE=DURATION:PT1H
X-Robots-Tag:noindex
X-PUBLISHED-TTL:PT1H
BEGIN:VTIMEZONE
TZID:America/New_York
BEGIN:DAYLIGHT
TZOFFSETFROM:-0500
TZOFFSETTO:-0400
TZNAME:EDT
DTSTART:20210314T070000
END:DAYLIGHT
BEGIN:STANDARD
TZOFFSETFROM:-0400
TZOFFSETTO:-0500
TZNAME:EST
DTSTART:20211107T060000
END:STANDARD
BEGIN:DAYLIGHT
TZOFFSETFROM:-0500
TZOFFSETTO:-0400
TZNAME:EDT
DTSTART:20220313T070000
END:DAYLIGHT
BEGIN:STANDARD
TZOFFSETFROM:-0400
TZOFFSETTO:-0500
TZNAME:EST
DTSTART:20221106T060000
END:STANDARD
BEGIN:DAYLIGHT
TZOFFSETFROM:-0500
TZOFFSETTO:-0400
TZNAME:EDT
DTSTART:20230312T070000
END:DAYLIGHT
BEGIN:STANDARD
TZOFFSETFROM:-0400
TZOFFSETTO:-0500
TZNAME:EST
DTSTART:20231105T060000
END:STANDARD
END:VTIMEZONE
BEGIN:VEVENT
DTSTART;TZID=America/New_York:20220919T170000
DTEND;TZID=America/New_York:20220921T170000
DTSTAMP:20260422T031447
CREATED:20220905T083415Z
LAST-MODIFIED:20220905T145915Z
UID:8471863-1663606800-1663779600@ahoi.dev
SUMMARY:People of Video 2022
DESCRIPTION:People of Video is a video-focused conference taking place in Albany\, NY in September. This in-person event brings together leading marketers and video creators on the East Coast to share insider knowledge and network.
URL:https://ahoi.dev/event/people-of-video-2022/
LOCATION:Crowne Plaza Albany – The Desmond Hotel\, 660 Albany Shaker Rd\, NY\, Albany\, NY\, 12211\, United States
CATEGORIES:Video
ATTACH;FMTTYPE=image/png:https://ahoi.dev/wp-content/uploads/2022/09/people-of-video.png
END:VEVENT
END:VCALENDAR